BEGIN:VCALENDAR
VERSION:2.0
METHOD:PUBLISH
BEGIN:VEVENT
DTSTART:20191125T074500Z
DTEND:20191129T143000Z
DTSTAMP:20260424T095101Z
SEQUENCE:0
STATUS:CONFIRMED
SUMMARY:FSV-Schulung: Verkehrssicherheitsauditoren und Road Safety Inspektoren - Fachseminar
DESCRIPTION:Diese Veranstaltung ist einerseits eine sehr gute Weiterbildungsmaßnahme für ExpertInnen der Straßenverkehrssicherheit und andererseits eine Voraussetzung für die Zertifizierung als StraßenverkehrssicherheitsgutachterIn. Nähere Informationen zur Zertifizierung finden Sie hier. 
LOCATION:Forschungsgesellschaft Straße - Schiene - Verkehr, 1. Stock, Saal A, Karlsgasse 5, 1040 Wien
UID:99da80b1-5495-40b0-9442-254c531b4abc
CLASS:PUBLIC
TRANSP:OPAQUE
END:VEVENT
END:VCALENDAR
