BEGIN:VCALENDAR
VERSION:2.0
METHOD:PUBLISH
BEGIN:VEVENT
DTSTART:20191016T070000Z
DTEND:20191016T150000Z
DTSTAMP:20260424T094800Z
SEQUENCE:0
STATUS:CONFIRMED
SUMMARY:FSV-Seminar: Kommunale Straßen - aktive Mobilität
DESCRIPTION:Bei Buchung von mind. 2 Seminartagen können Sie (bei Bekanntgabe) den 4. Seminartag „Rechtliche Grundlagen“ (16.10.2025) zusätzlich gratis besuchen.   Die Vortragenden werden das Thema Fußgänger- und Radverkehr sowie Begegnungszonen  ausführlich behandeln. Herr Robatsch wird die Planungsgrundsätze des nicht motorisierten Verkehrs vom Radweg über die Begegnungszone bis hin zur Fußgängerzone darstellen. Die Herren Reiter und Schneider gehen besonders auf die Richtlinien für den Fußgänger- und Radverkehr ein. Zum Abschluss geht Herr Szeiler auf die Einsatzkriterien für Begegnungszonen ein. Diese sollen Gemeinden unterstützen, um festzustellen, inwieweit Straßen oder Plätze als Begegnungszonen geeignet sind. 
LOCATION:Forschungsgesellschaft Straße - Schiene - Verkehr, 4. Stock, Zimmer 402, Karlsgasse 5, 1040 Wien
UID:b28c62b1-465f-46b9-9af9-073e3a4315fb
CLASS:PUBLIC
TRANSP:OPAQUE
END:VEVENT
END:VCALENDAR
