BEGIN:VCALENDAR
VERSION:2.0
METHOD:PUBLISH
BEGIN:VEVENT
DTSTART:20200922T070000Z
DTEND:20200923T130000Z
DTSTAMP:20260422T031320Z
SEQUENCE:0
STATUS:CONFIRMED
SUMMARY:FSV-Seminar: Standardisierte Leistungsbeschreibung Verkehr und Infrastruktur Version 5 - Basisseminar
DESCRIPTION:Die Standardisierte Leistungsbeschreibung Verkehr und Infrastruktur Version 04, ein Meilenstein für Auftraggeber, Planer und Auftragnehmer für alle Bereiche des Ingenieurbaus, wurde nun, nach über 3 Jahren der Verwendung, überarbeitet. Hier nur einige wenige Neuerungen in der LB-VI05: Die aktuelle Recycling-Baustoffverordnung (RBV) und der aktuelle Bundesabfallwirtschaftplan (BAWP) wurden umgesetzt. Sämtliche Spezialtiefbau Leistungs- und Unterleistungsgruppen wurden komplett überarbeitet, neu erstellt. Die LG45 Verkehrszeichen wurde komplett neu erstellt, ausschreibungsfreundlich gestaltet, auf die preisbildenden Komponenten reduziert und von der Anzahl der Positionen deutlich schlanker gestaltet. Zahlreiche weitere Leistungsgruppen wurden überarbeitet, die aktuellen Normen und Regelwerke berücksichtigt, eine vollständige Aufzählung würde hier den Rahmen bedeutend sprengen. In der zweitägigen Schulung wird auf diese zahlreichen Änderungen, sowie Neuerungen eingegangen.  
LOCATION:Forschungsgesellschaft Straße - Schiene - Verkehr, 4. Stock, Zimmer 402, Karlsgasse 5, 1040 Wien
UID:c2cfc385-c332-480e-a483-bf3e126ec6e8
CLASS:PUBLIC
TRANSP:OPAQUE
END:VEVENT
END:VCALENDAR
