BEGIN:VCALENDAR
VERSION:2.0
METHOD:PUBLISH
BEGIN:VEVENT
DTSTART:20200915T064500Z
DTEND:20200915T160000Z
DTSTAMP:20260424T025352Z
SEQUENCE:0
STATUS:CONFIRMED
SUMMARY:FSV-Verkehrstag mit Fachausstellung 2020
LOCATION:Austria Trend Parkhotel Schönbrunn  , Hietzinger Hauptstraße 10-14, 1130 Wien 
UID:a3b2608e-85cb-4b29-bb20-1d15c4180b94
CLASS:PUBLIC
TRANSP:OPAQUE
END:VEVENT
END:VCALENDAR
