BEGIN:VCALENDAR
VERSION:2.0
METHOD:PUBLISH
BEGIN:VEVENT
DTSTART:20251015T070000Z
DTEND:20251015T150000Z
DTSTAMP:20260421T090549Z
SEQUENCE:0
STATUS:CONFIRMED
SUMMARY:FSV-Seminar: Kommunale Straßen - Projektierung kommunaler Straßen - Teil 2
DESCRIPTION:Bei Buchung von mind. 2 Seminartagen können Sie (bei Bekanntgabe) den 4. Seminartag „Rechtliche Grundlagen“ (16.10.2025) zusätzlich gratis besuchen.   Herr Haslehner wird über sein Fachgebiet, die Projektierung ländlicher Straßen, mit den Schwerpunkten Trassierung, Entwurf, Spurwege und standardisierte Oberbauausführung referieren. 
LOCATION:MS-Teams , ,  Webinar
UID:b40a11ed-29de-469f-ba28-099041b2f0f8
CLASS:PUBLIC
TRANSP:OPAQUE
END:VEVENT
END:VCALENDAR
